BEGIN:VCALENDAR
VERSION:2.0
PRODID:-//Craft Your Dream, Inc. - ECPv6.15.17.1//NONSGML v1.0//EN
CALSCALE:GREGORIAN
METHOD:PUBLISH
X-WR-CALNAME:Craft Your Dream, Inc.
X-ORIGINAL-URL:https://www.craftyourdream.org
X-WR-CALDESC:Events for Craft Your Dream, Inc.
REFRESH-INTERVAL;VALUE=DURATION:PT1H
X-Robots-Tag:noindex
X-PUBLISHED-TTL:PT1H
BEGIN:VTIMEZONE
TZID:UTC
BEGIN:STANDARD
TZOFFSETFROM:+0000
TZOFFSETTO:+0000
TZNAME:UTC
DTSTART:20250101T000000
END:STANDARD
END:VTIMEZONE
BEGIN:VEVENT
DTSTART;TZID=UTC:20260822T100000
DTEND;TZID=UTC:20260822T140000
DTSTAMP:20260421T100045
CREATED:20220502T132019Z
LAST-MODIFIED:20250811T170420Z
UID:631-1787392800-1787407200@www.craftyourdream.org
SUMMARY:Built To Lead
DESCRIPTION:Grow with purpose. Lead your business.\nYour business doesn’t have to be a guessing game. \nBuilt to Lead is a one-day business growth experience designed for start-ups and early-stage entrepreneurs who want to build purpose-driven and profitable businesses. In this focused\, high-impact day\, you’ll learn the 3 essential moves every entrepreneur needs to grow with clarity\, purpose\, and profit. \nThis isn’t just theory — you’ll leave with practical strategies and a 90-day action plan you can start implementing immediately to see growth in your revenue\, leadership\, and confidence as a business owner. \n\nKey Takeaways:\n\n\nLearn the 3 moves to grow a profitable\, purpose-driven business \n\n\nClarify your business vision and target audience \n\n\nDevelop a growth strategy you can implement immediately \n\n\nStrengthen your leadership as a business owner and CEO \n\n\n\nWho It’s For:\n\n\nStart-up Founders \n\n\nEarly-Stage Entrepreneurs \n\n\nSmall Business Owners \n\n\n\nReserve your free ticket today and take the first step toward building a business that makes both impact and income. \n\nUpgrade to VIP for $99\nIf you want direct access\, deeper insight\, and premium tools to accelerate your growth — upgrade to VIP. \nVIP Includes: \n\n\nExclusive 45-min VIP Business Coaching Q&A after the event ($150 value) \n\n\nEvent recording for 14 days ($50 value) \n\n\nVIP business growth workbook with frameworks & profitability planning sheets ($30 value) \n\n\nBonus training video: “The 90-Day Profit Plan” ($50 value) \n\n\nTotal Value: $280+Your Price: $99 \n\nSeats for the VIP Q&A are limited. Upgrade when you register to secure your spot.
URL:https://www.craftyourdream.org/event/built2lead/
LOCATION:Zoom
CATEGORIES:Free Event,One Day Intensives
ATTACH;FMTTYPE=image/jpeg:https://www.craftyourdream.org/wp-content/uploads/2025/08/3.jpg
ORGANIZER;CN="Craft Your Dream%2C Inc.":MAILTO:trevon@craftyourdream.org
END:VEVENT
END:VCALENDAR